BEGIN:VCALENDAR
VERSION:2.0
PRODID:-//wp-events-plugin.com//7.2.3.1//EN
TZID:Europe/Madrid
X-WR-TIMEZONE:Europe/Madrid
BEGIN:VEVENT
UID:0-1916@iuaragon.com
DTSTART:20221126T000000Z
DTEND:20221126T000000Z
DTSTAMP:20221123T130203Z
URL:https://www.iuaragon.com/agenda_aragon/xi-feria-mercado-social-aragon/
SUMMARY:XI Feria Mercado Social Aragón - CSC Luis Buñuel - 26 Nov 22 00:0
 0
DESCRIPTION:La XI Feria Social Aragón tendrá lugar el sábado 26 de novie
 mbre en el CSC Luis Buñuel de 11 de la mañana a 8 de la tarde.
ATTACH;FMTTYPE=image/jpeg:https://www.iuaragon.com/wp-content/uploads/2022
 /11/photo_2022-11-23_10-04-08.jpg
LOCATION:CSC Luis Buñuel\, Plaza Santo Domingo\, Zaragoza\, España
X-APPLE-STRUCTURED-LOCATION;VALUE=URI;X-ADDRESS=Plaza Santo Domingo\, Zarag
 oza\, España;X-APPLE-RADIUS=100;X-TITLE=CSC Luis Buñuel:geo:0,0
END:VEVENT
END:VCALENDAR