BEGIN:VCALENDAR
VERSION:2.0
PRODID:-//wp-events-plugin.com//7.2.3.1//EN
TZID:Europe/Madrid
X-WR-TIMEZONE:Europe/Madrid
BEGIN:VEVENT
UID:0-1316@iuaragon.com
DTSTART;TZID=Europe/Madrid:20211015T200000
DTEND;TZID=Europe/Madrid:20211015T210000
DTSTAMP:20211013T081334Z
URL:https://www.iuaragon.com/agenda_aragon/meditacion-en-la-calle-por-la-c
 risis-climatica/
SUMMARY:Meditación en la calle por la crisis climática - Plaza San Franci
 sco (Zaragoza) - 15 Oct 21 20:00
DESCRIPTION:Extinction Rebellion Zaragoza organiza una meditación en la ca
 lle a todas las personas preocupadas por la crisis climática.\n\nEl viern
 es 15 de octubre\, a las 20:00\, junto a la parada del tranvía de la plaz
 a San Francisco.\n\nPara participar hay que enviar un email a: infoxrzgz@g
 mail.com il.com
ATTACH;FMTTYPE=image/jpeg:https://www.iuaragon.com/wp-content/uploads/2021
 /10/796838a5-0048-4f71-bf22-4da9f7052b65.jpg
CATEGORIES:Convocatoria Social
LOCATION:Plaza San Francisco (Zaragoza)\, Plaza San Francisco\, Zaragoza\, 
 España
GEO:41.6406388;-0.8953802999999425
X-APPLE-STRUCTURED-LOCATION;VALUE=URI;X-ADDRESS=Plaza San Francisco\, Zarag
 oza\, España;X-APPLE-RADIUS=100;X-TITLE=Plaza San Francisco (Zaragoza):ge
 o:41.6406388,-0.8953802999999425
END:VEVENT
BEGIN:VTIMEZONE
TZID:Europe/Madrid
X-LIC-LOCATION:Europe/Madrid
BEGIN:DAYLIGHT
DTSTART:20210328T030000
TZOFFSETFROM:+0100
TZOFFSETTO:+0200
TZNAME:CEST
END:DAYLIGHT
END:VTIMEZONE
END:VCALENDAR