BEGIN:VCALENDAR
VERSION:2.0
PRODID:-//wp-events-plugin.com//7.2.3.1//EN
TZID:Europe/Madrid
X-WR-TIMEZONE:Europe/Madrid
BEGIN:VEVENT
UID:0-2819@iuaragon.com
DTSTART:20251003T190000Z
DTEND:20251003T190000Z
DTSTAMP:20251001T100000Z
URL:https://www.iuaragon.com/agenda_aragon/manifestacion-por-palestina-2/
SUMMARY:Manifestación por Palestina - Plaza del Portillo (Zaragoza) - 3 Oc
 t 25 19:00
DESCRIPTION:#Stop2AñosDeGenocidio
ATTACH;FMTTYPE=image/jpeg:https://www.iuaragon.com/wp-content/uploads/2025
 /10/5970077844103087622.jpg
CATEGORIES:Convocatoria Social
LOCATION:Plaza del Portillo (Zaragoza)\, Plaza del Portillo\, Zaragoza\, Es
 paña
GEO:41.6556131;-0.8921126000000186
X-APPLE-STRUCTURED-LOCATION;VALUE=URI;X-ADDRESS=Plaza del Portillo\, Zarago
 za\, España;X-APPLE-RADIUS=100;X-TITLE=Plaza del Portillo (Zaragoza):geo:
 41.6556131,-0.8921126000000186
END:VEVENT
END:VCALENDAR