BEGIN:VCALENDAR
VERSION:2.0
PRODID:-//wp-events-plugin.com//7.2.3.1//EN
TZID:Europe/Madrid
X-WR-TIMEZONE:Europe/Madrid
BEGIN:VEVENT
UID:0-1814@iuaragon.com
DTSTART;TZID=Europe/Madrid:20220924T110000
DTEND;TZID=Europe/Madrid:20220924T130000
DTSTAMP:20220920T082057Z
URL:https://www.iuaragon.com/agenda_aragon/encuentro-social-con-zec/
SUMMARY:Encuentro social con ZeC -  - 24 Sep 22 11:00
DESCRIPTION:Zaragoza en Común organiza un encuentro con los barrios de Del
 icias y Almozara el sábado 24 de septimebre a las 11h en el Jardín verti
 cal de Delicias.
ATTACH;FMTTYPE=image/jpeg:https://www.iuaragon.com/wp-content/uploads/2022
 /09/photo_2022-09-19_20-52-48.jpg
END:VEVENT
BEGIN:VTIMEZONE
TZID:Europe/Madrid
X-LIC-LOCATION:Europe/Madrid
BEGIN:DAYLIGHT
DTSTART:20220327T030000
TZOFFSETFROM:+0100
TZOFFSETTO:+0200
TZNAME:CEST
END:DAYLIGHT
END:VTIMEZONE
END:VCALENDAR