BEGIN:VCALENDAR
VERSION:2.0
PRODID:-//wp-events-plugin.com//7.2.3.1//EN
TZID:Europe/Madrid
X-WR-TIMEZONE:Europe/Madrid
BEGIN:VEVENT
UID:0-890@iuaragon.com
DTSTART;TZID=Europe/Madrid:20201212T170000
DTEND;TZID=Europe/Madrid:20201212T180000
DTSTAMP:20201210T095314Z
URL:https://www.iuaragon.com/agenda_aragon/concentracion-por-un-sahara-lib
 re-2/
SUMMARY:Concentración por un Sáhara Libre - Plaza España - 12 Dic 20 17:
 00
DESCRIPTION:La Plataforma Aragonesa por un Sáhara Libre\, Saharagon\, conv
 oca este sábado 12 de diciembre una concentración para pedir paz y justi
 cia para el pueblo saharaui y su autodeterminación.\n\n&nbsp\;
ATTACH;FMTTYPE=image/jpeg:https://www.iuaragon.com/wp-content/uploads/2020
 /12/Sahara-Libre12-Diciembre.jpg
CATEGORIES:Convocatoria Social
LOCATION:Plaza España\, Plaza España\, Zaragoza\, España
GEO:41.6518763;-0.8810166000000663
X-APPLE-STRUCTURED-LOCATION;VALUE=URI;X-ADDRESS=Plaza España\, Zaragoza\, 
 España;X-APPLE-RADIUS=100;X-TITLE=Plaza España:geo:41.6518763,-0.8810166
 000000663
END:VEVENT
BEGIN:VTIMEZONE
TZID:Europe/Madrid
X-LIC-LOCATION:Europe/Madrid
BEGIN:STANDARD
DTSTART:20201025T020000
TZOFFSETFROM:+0200
TZOFFSETTO:+0100
TZNAME:CET
END:STANDARD
END:VTIMEZONE
END:VCALENDAR